Workbook

Sheet Summary
A1: Complete Loads, Sources and Storages worksheets first, then view results here.
B2: Amp-Hours
A3: Loads, Amp-Hrs per Day, from page 1 | B3: ='Loads, page 1'!G45 -> 0
A4: Loads, Amp-Hrs per Day, from page 2 | B4: ='Loads, page 2'!G45 -> 0
A5: Loads, Amp-Hrs per Day, from page 3 | B5: ='Loads, page 3'!G45 -> 0
A6: Total Loads, Amp-Hours per Day | B6: =SUM(B3:B5) -> 0
A8: Total Sources, Amp-Hours per Day | B8: =Sources!F21 -> 0
A10: Net Drain per Day | B10: =IF(B6>B8,B6-B8,0) -> 0
A12: Target Maximum Drain per Day | B12: =Storage!D15 -> 0
A14: Number of Days Supported | B14: =IF(B10>0,B12/B10,"Unlimited") -> Unlimited
A16: Notes:
D19: N6VI

Sheet Loads, page 1
A2: Equipment / | C2: Current | D2: % Time | E2: Hours | F2: % Duty | G2: Amp-Hrs
A3: Radio Type | B3: Mode | C3: (Amps) | D3: in Mode | E3: in Mode | F3: Cycle | G3: per Day
B4: Off | C4: 0 | E4: =24*D4 -> 0 | G4: =C4*E4*F4 -> 0
B5: On / Recv | E5: =24*D5 -> 0 | F5: 1 | G5: =C5*E5*F5 -> 0
B6: Xmit - Low | E6: =24*D6 -> 0 | G6: =C6*E6*F6 -> 0
B7: Xmit - High | E7: =24*D7 -> 0 | G7: =C7*E7*F7 -> 0
D8: =SUM(D4:D7) -> 0
A9: Equipment / | C9: Current | D9: % Time | E9: Hours | F9: % Duty | G9: Amp-Hrs
A10: Radio Type | B10: Mode | C10: (Amps) | D10: in Mode | E10: in Mode | F10: Cycle | G10: per Day
B11: Off | C11: 0 | E11: =24*D11 -> 0 | G11: =C11*E11*F11 -> 0
B12: On / Recv | E12: =24*D12 -> 0 | F12: 1 | G12: =C12*E12*F12 -> 0
B13: Xmit - Low | E13: =24*D13 -> 0 | G13: =C13*E13*F13 -> 0
B14: Xmit - High | E14: =24*D14 -> 0 | G14: =C14*E14*F14 -> 0
D15: =SUM(D11:D14) -> 0
A16: Equipment / | C16: Current | D16: % Time | E16: Hours | F16: % Duty | G16: Amp-Hrs
A17: Radio Type | B17: Mode | C17: (Amps) | D17: in Mode | E17: in Mode | F17: Cycle | G17: per Day
B18: Off | C18: 0 | E18: =24*D18 -> 0 | G18: =C18*E18*F18 -> 0
B19: On / Recv | E19: =24*D19 -> 0 | F19: 1 | G19: =C19*E19*F19 -> 0
B20: Xmit - Low | E20: =24*D20 -> 0 | G20: =C20*E20*F20 -> 0
B21: Xmit - High | E21: =24*D21 -> 0 | G21: =C21*E21*F21 -> 0
D22: =SUM(D18:D21) -> 0
A23: Equipment / | C23: Current | D23: % Time | E23: Hours | F23: % Duty | G23: Amp-Hrs
A24: Radio Type | B24: Mode | C24: (Amps) | D24: in Mode | E24: in Mode | F24: Cycle | G24: per Day
B25: Off | C25: 0 | E25: =24*D25 -> 0 | G25: =C25*E25*F25 -> 0
B26: On / Recv | E26: =24*D26 -> 0 | F26: 1 | G26: =C26*E26*F26 -> 0
B27: Xmit - Low | E27: =24*D27 -> 0 | G27: =C27*E27*F27 -> 0
B28: Xmit - High | E28: =24*D28 -> 0 | G28: =C28*E28*F28 -> 0
D29: =SUM(D25:D28) -> 0
A30: Equipment / | C30: Current | D30: % Time | E30: Hours | F30: % Duty | G30: Amp-Hrs
A31: Radio Type | B31: Mode | C31: (Amps) | D31: in Mode | E31: in Mode | F31: Cycle | G31: per Day
B32: Off | C32: 0 | E32: =24*D32 -> 0 | G32: =C32*E32*F32 -> 0
B33: On / Recv | E33: =24*D33 -> 0 | F33: 1 | G33: =C33*E33*F33 -> 0
B34: Xmit - Low | E34: =24*D34 -> 0 | G34: =C34*E34*F34 -> 0
B35: Xmit - High | E35: =24*D35 -> 0 | G35: =C35*E35*F35 -> 0
D36: =SUM(D32:D35) -> 0
A37: Equipment / | C37: Current | D37: % Time | E37: Hours | F37: % Duty | G37: Amp-Hrs
A38: Radio Type | B38: Mode | C38: (Amps) | D38: in Mode | E38: in Mode | F38: Cycle | G38: per Day
B39: Off | C39: 0 | E39: =24*D39 -> 0 | G39: =C39*E39*F39 -> 0
B40: On / Recv | E40: =24*D40 -> 0 | F40: 1 | G40: =C40*E40*F40 -> 0
B41: Xmit - Low | E41: =24*D41 -> 0 | G41: =C41*E41*F41 -> 0
...

Sheet Loads, page 2
A2: Equipment / | C2: Current | D2: % Time | E2: Hours | F2: % Duty | G2: Amp-Hrs
A3: Radio Type | B3: Mode | C3: (Amps) | D3: in Mode | E3: in Mode | F3: Cycle | G3: per Day
B4: Off | C4: 0 | E4: =24*D4 -> 0 | G4: =C4*E4*F4 -> 0
B5: On / Recv | E5: =24*D5 -> 0 | F5: 1 | G5: =C5*E5*F5 -> 0
B6: Xmit - Low | E6: =24*D6 -> 0 | G6: =C6*E6*F6 -> 0
B7: Xmit - High | E7: =24*D7 -> 0 | G7: =C7*E7*F7 -> 0
D8: =SUM(D4:D7) -> 0
A9: Equipment / | C9: Current | D9: % Time | E9: Hours | F9: % Duty | G9: Amp-Hrs
A10: Radio Type | B10: Mode | C10: (Amps) | D10: in Mode | E10: in Mode | F10: Cycle | G10: per Day
B11: Off | C11: 0 | E11: =24*D11 -> 0 | G11: =C11*E11*F11 -> 0
B12: On / Recv | E12: =24*D12 -> 0 | F12: 1 | G12: =C12*E12*F12 -> 0
B13: Xmit - Low | E13: =24*D13 -> 0 | G13: =C13*E13*F13 -> 0
B14: Xmit - High | E14: =24*D14 -> 0 | G14: =C14*E14*F14 -> 0
D15: =SUM(D11:D14) -> 0
A16: Equipment / | C16: Current | D16: % Time | E16: Hours | F16: % Duty | G16: Amp-Hrs
A17: Radio Type | B17: Mode | C17: (Amps) | D17: in Mode | E17: in Mode | F17: Cycle | G17: per Day
B18: Off | C18: 0 | E18: =24*D18 -> 0 | G18: =C18*E18*F18 -> 0
B19: On / Recv | E19: =24*D19 -> 0 | F19: 1 | G19: =C19*E19*F19 -> 0
B20: Xmit - Low | E20: =24*D20 -> 0 | G20: =C20*E20*F20 -> 0
B21: Xmit - High | E21: =24*D21 -> 0 | G21: =C21*E21*F21 -> 0
D22: =SUM(D18:D21) -> 0
A23: Equipment / | C23: Current | D23: % Time | E23: Hours | F23: % Duty | G23: Amp-Hrs
A24: Radio Type | B24: Mode | C24: (Amps) | D24: in Mode | E24: in Mode | F24: Cycle | G24: per Day
B25: Off | C25: 0 | E25: =24*D25 -> 0 | G25: =C25*E25*F25 -> 0
B26: On / Recv | E26: =24*D26 -> 0 | F26: 1 | G26: =C26*E26*F26 -> 0
B27: Xmit - Low | E27: =24*D27 -> 0 | G27: =C27*E27*F27 -> 0
B28: Xmit - High | E28: =24*D28 -> 0 | G28: =C28*E28*F28 -> 0
D29: =SUM(D25:D28) -> 0
A30: Equipment / | C30: Current | D30: % Time | E30: Hours | F30: % Duty | G30: Amp-Hrs
A31: Radio Type | B31: Mode | C31: (Amps) | D31: in Mode | E31: in Mode | F31: Cycle | G31: per Day
B32: Off | C32: 0 | E32: =24*D32 -> 0 | G32: =C32*E32*F32 -> 0
B33: On / Recv | E33: =24*D33 -> 0 | F33: 1 | G33: =C33*E33*F33 -> 0
B34: Xmit - Low | E34: =24*D34 -> 0 | G34: =C34*E34*F34 -> 0
B35: Xmit - High | E35: =24*D35 -> 0 | G35: =C35*E35*F35 -> 0
D36: =SUM(D32:D35) -> 0
A37: Equipment / | C37: Current | D37: % Time | E37: Hours | F37: % Duty | G37: Amp-Hrs
A38: Radio Type | B38: Mode | C38: (Amps) | D38: in Mode | E38: in Mode | F38: Cycle | G38: per Day
B39: Off | C39: 0 | E39: =24*D39 -> 0 | G39: =C39*E39*F39 -> 0
B40: On / Recv | E40: =24*D40 -> 0 | F40: 1 | G40: =C40*E40*F40 -> 0
B41: Xmit - Low | E41: =24*D41 -> 0 | G41: =C41*E41*F41 -> 0
...

Sheet Loads, page 3
A2: Equipment / | C2: Current | D2: % Time | E2: Hours | F2: % Duty | G2: Amp-Hrs
A3: Radio Type | B3: Mode | C3: (Amps) | D3: in Mode | E3: in Mode | F3: Cycle | G3: per Day
B4: Off | C4: 0 | E4: =24*D4 -> 0 | G4: =C4*E4*F4 -> 0
B5: On / Recv | E5: =24*D5 -> 0 | F5: 1 | G5: =C5*E5*F5 -> 0
B6: Xmit - Low | E6: =24*D6 -> 0 | G6: =C6*E6*F6 -> 0
B7: Xmit - High | E7: =24*D7 -> 0 | G7: =C7*E7*F7 -> 0
D8: =SUM(D4:D7) -> 0
A9: Equipment / | C9: Current | D9: % Time | E9: Hours | F9: % Duty | G9: Amp-Hrs
A10: Radio Type | B10: Mode | C10: (Amps) | D10: in Mode | E10: in Mode | F10: Cycle | G10: per Day
B11: Off | C11: 0 | E11: =24*D11 -> 0 | G11: =C11*E11*F11 -> 0
B12: On / Recv | E12: =24*D12 -> 0 | F12: 1 | G12: =C12*E12*F12 -> 0
B13: Xmit - Low | E13: =24*D13 -> 0 | G13: =C13*E13*F13 -> 0
B14: Xmit - High | E14: =24*D14 -> 0 | G14: =C14*E14*F14 -> 0
D15: =SUM(D11:D14) -> 0
A16: Equipment / | C16: Current | D16: % Time | E16: Hours | F16: % Duty | G16: Amp-Hrs
A17: Radio Type | B17: Mode | C17: (Amps) | D17: in Mode | E17: in Mode | F17: Cycle | G17: per Day
B18: Off | C18: 0 | E18: =24*D18 -> 0 | G18: =C18*E18*F18 -> 0
B19: On / Recv | E19: =24*D19 -> 0 | F19: 1 | G19: =C19*E19*F19 -> 0
B20: Xmit - Low | E20: =24*D20 -> 0 | G20: =C20*E20*F20 -> 0
B21: Xmit - High | E21: =24*D21 -> 0 | G21: =C21*E21*F21 -> 0
D22: =SUM(D18:D21) -> 0
A23: Equipment / | C23: Current | D23: % Time | E23: Hours | F23: % Duty | G23: Amp-Hrs
A24: Radio Type | B24: Mode | C24: (Amps) | D24: in Mode | E24: in Mode | F24: Cycle | G24: per Day
B25: Off | C25: 0 | E25: =24*D25 -> 0 | G25: =C25*E25*F25 -> 0
B26: On / Recv | E26: =24*D26 -> 0 | F26: 1 | G26: =C26*E26*F26 -> 0
B27: Xmit - Low | E27: =24*D27 -> 0 | G27: =C27*E27*F27 -> 0
B28: Xmit - High | E28: =24*D28 -> 0 | G28: =C28*E28*F28 -> 0
D29: =SUM(D25:D28) -> 0
A30: Equipment / | C30: Current | D30: % Time | E30: Hours | F30: % Duty | G30: Amp-Hrs
A31: Radio Type | B31: Mode | C31: (Amps) | D31: in Mode | E31: in Mode | F31: Cycle | G31: per Day
B32: Off | C32: 0 | E32: =24*D32 -> 0 | G32: =C32*E32*F32 -> 0
B33: On / Recv | E33: =24*D33 -> 0 | F33: 1 | G33: =C33*E33*F33 -> 0
B34: Xmit - Low | E34: =24*D34 -> 0 | G34: =C34*E34*F34 -> 0
B35: Xmit - High | E35: =24*D35 -> 0 | G35: =C35*E35*F35 -> 0
D36: =SUM(D32:D35) -> 0
A37: Equipment / | C37: Current | D37: % Time | E37: Hours | F37: % Duty | G37: Amp-Hrs
A38: Radio Type | B38: Mode | C38: (Amps) | D38: in Mode | E38: in Mode | F38: Cycle | G38: per Day
B39: Off | C39: 0 | E39: =24*D39 -> 0 | G39: =C39*E39*F39 -> 0
B40: On / Recv | E40: =24*D40 -> 0 | F40: 1 | G40: =C40*E40*F40 -> 0
B41: Xmit - Low | E41: =24*D41 -> 0 | G41: =C41*E41*F41 -> 0
...

Sheet Sources
A2: Charging Sources | C2: Current | D2: % Time | E2: Hours | F2: Amp-Hrs
A3: (e.g., solar panel, AC supply) | B3: Mode | C3: (Amps) | D3: in Mode | E3: in Mode | F3: per Day
A4: Source 1 | B4: No output | C4: 0 | E4: =D4*24 -> 0 | F4: =C4*E4 -> 0
B5: Low output | E5: =D5*24 -> 0 | F5: =C5*E5 -> 0
B6: Peak output | E6: =D6*24 -> 0 | F6: =C6*E6 -> 0
D7: =SUM(D4:D6) -> 0
A8: Source 2 | B8: No output | C8: 0 | E8: =D8*24 -> 0 | F8: =C8*E8 -> 0
B9: Low output | E9: =D9*24 -> 0 | F9: =C9*E9 -> 0
B10: Peak output | E10: =D10*24 -> 0 | F10: =C10*E10 -> 0
D11: =SUM(D8:D10) -> 0
A12: Source 3 | B12: No output | C12: 0 | E12: =D12*24 -> 0 | F12: =C12*E12 -> 0
B13: Low output | E13: =D13*24 -> 0 | F13: =C13*E13 -> 0
B14: Peak output | E14: =D14*24 -> 0 | F14: =C14*E14 -> 0
D15: =SUM(D12:D14) -> 0
A16: Source 4 | B16: No output | C16: 0 | E16: =D16*24 -> 0 | F16: =C16*E16 -> 0
B17: Low output | E17: =D17*24 -> 0 | F17: =C17*E17 -> 0
B18: Peak output | E18: =D18*24 -> 0 | F18: =C18*E18 -> 0
D19: =SUM(D16:D18) -> 0
A21: Total Sources for This Page, in Ampere-Hours : | F21: =SUM(F4:F20) -> 0
A24: Note: For solar panels, peak output will usually equal the rated short-circuit current.
A25: Most solar panels will provide some reduced output either side of peak daylight hours.
A26: A spring-day estimate might be 50% no output, 30% low output and 20% peak output.
F46: N6VI

Sheet Storage
A2: Storage Battery | B2: Capacity | C2: Target % Depth | D2: Target Maximum
A3: Bank Description / ID | B3: (Amp-Hours) | C3: of Discharge | D3: Drain Per Day
D4: =B4*C4 -> 0
D5: =B5*C5 -> 0
D6: =B6*C6 -> 0
D7: =B7*C7 -> 0
D8: =B8*C8 -> 0
D9: =B9*C9 -> 0
D10: =B10*C10 -> 0
D11: =B11*C11 -> 0
D12: =B12*C12 -> 0
D13: =B13*C13 -> 0
A15: Total Target Maximun Drain Per Day, in Ampere-Hours: | D15: =SUM(D4:D14) -> 0
D31: N6VI
